BEGIN:VCALENDAR
VERSION:2.0
PRODID:-//hacksw/handcal//NONSGML v1.0//EN
CALSCALE:GREGORIAN
BEGIN:VEVENT
UID:69e58709e42ca
LOCATION:durch die Plan B Gemeinden
URL;VALUE=URI:https://marketing.lustenau.at/de/events/genusstour
SUMMARY:Genusstour durch die Plan B Gemeinden\, durch die Plan B Gemeinden
DTSTART:20260521T000000
DTEND:20260521T000000
DTSTAMP:20260420T035313
END:VEVENT
END:VCALENDAR
