BEGIN:VCALENDAR
VERSION:2.0
PRODID:-//hacksw/handcal//NONSGML v1.0//EN
CALSCALE:GREGORIAN
BEGIN:VEVENT
UID:69ecbfc293385
LOCATION:am Kirchplatz
URL;VALUE=URI:https://marketing.lustenau.at/de/events/luschnouar-chrischtkendlimarkt
SUMMARY:Luschnouar Chrischtkendlimarkt \, am Kirchplatz
DTSTART:20261126T140000
DTEND:20261129T220000
DTSTAMP:20260425T152106
END:VEVENT
END:VCALENDAR
