BEGIN:VCALENDAR
VERSION:2.0
PRODID:-//hacksw/handcal//NONSGML v1.0//EN
CALSCALE:GREGORIAN
BEGIN:VEVENT
UID:69ecbfed45b4d
LOCATION:Zentrum Lustenau
URL;VALUE=URI:https://marketing.lustenau.at/de/events/luschnouar-kilbi
SUMMARY:Luschnouar Kilbi\, Zentrum Lustenau
DTSTART:20261011T100000
DTEND:20261011T190000
DTSTAMP:20260425T152149
END:VEVENT
END:VCALENDAR
