BEGIN:VCALENDAR
VERSION:2.0
PRODID:-//hacksw/handcal//NONSGML v1.0//EN
CALSCALE:GREGORIAN
BEGIN:VEVENT
UID:69e5886ce5424
LOCATION:Kirchplatz\, Lustenau
URL;VALUE=URI:https://marketing.lustenau.at/de/events/sommer-am-platz-dj-flame-i-dj-m-cell
SUMMARY:Sommer am Platz - DJ FLAME I DJ M-CELL\, Kirchplatz\, Lustenau
DTSTART:20260710T180000
DTEND:20260710T203000
DTSTAMP:20260420T035908
END:VEVENT
END:VCALENDAR
