BEGIN:VCALENDAR
VERSION:2.0
PRODID:-//hacksw/handcal//NONSGML v1.0//EN
CALSCALE:GREGORIAN
BEGIN:VEVENT
UID:69e586ac9953a
LOCATION:Kirchplatz\, Lustenau
URL;VALUE=URI:https://marketing.lustenau.at/de/events/sommer-am-platz-harris-haare
SUMMARY:Sommer am Platz - HARRIS HAARE\, Kirchplatz\, Lustenau
DTSTART:20260731T200000
DTEND:20260731T223000
DTSTAMP:20260420T035140
END:VEVENT
END:VCALENDAR
