BEGIN:VCALENDAR
VERSION:2.0
PRODID:-//hacksw/handcal//NONSGML v1.0//EN
CALSCALE:GREGORIAN
BEGIN:VEVENT
UID:69e587f4d6328
LOCATION:Kirchplatz\, Lustenau
URL;VALUE=URI:https://marketing.lustenau.at/de/events/sommer-am-platz-jazzseminar-live-i-rheintalische-musikschule
SUMMARY:Sommer am Platz - JAZZSEMINAR LIVE I RHEINTALISCHE MUSIKSCHULE\, Kirchplatz\, Lustenau
DTSTART:20260626T180000
DTEND:20260626T203000
DTSTAMP:20260420T035708
END:VEVENT
END:VCALENDAR
