BEGIN:VCALENDAR
VERSION:2.0
PRODID:-//hacksw/handcal//NONSGML v1.0//EN
CALSCALE:GREGORIAN
BEGIN:VEVENT
UID:69e587a291300
LOCATION:Kirchplatz\, Lustenau
URL;VALUE=URI:https://marketing.lustenau.at/de/events/sommer-am-platz-lou-band
SUMMARY:Sommer am Platz - LOU &amp; BAND\, Kirchplatz\, Lustenau
DTSTART:20260717T200000
DTEND:20260717T223000
DTSTAMP:20260420T035546
END:VEVENT
END:VCALENDAR
