BEGIN:VCALENDAR
VERSION:2.0
PRODID:-//hacksw/handcal//NONSGML v1.0//EN
CALSCALE:GREGORIAN
BEGIN:VEVENT
UID:69e587c06b625
LOCATION:Kirchplatz\, Lustenau
URL;VALUE=URI:https://marketing.lustenau.at/de/events/sommer-am-platz-moose-crossing
SUMMARY:Sommer am Platz - MOOSE CROSSING\, Kirchplatz\, Lustenau
DTSTART:20260724T200000
DTEND:20260724T223000
DTSTAMP:20260420T035616
END:VEVENT
END:VCALENDAR
